BEGIN:VCALENDAR
PRODID:-//eluceo/ical//2.0/EN
VERSION:2.0
CALSCALE:GREGORIAN
BEGIN:VEVENT
UID:Baywa r.e.
DTSTAMP:20260418T095432Z
SUMMARY:Understanding ITC's to boost your sales with LCAB and BayWa r.e.
DESCRIPTION:As Canada’s clean-energy market accelerates\, developers and 
 EPCs face a new operational challenge: proving—clearly\, consistently\, 
 and at scale—that their projects meet the labour and eligibility criteri
 a of the Clean Technology Investment Tax Credit. LCAB’s Standard Operati
 ng Procedure (“SOP”) is the industry’s first turnkey playbook built 
 specifically to solve that problem\; join our presentation to learn how to
  operationalize ITCs in your business.\nDrawing on experience from more th
 an 10 GW of compliance work across North America\, LCAB has distilled the 
 complex ITC requirements into a practical\, repeatable system that project
  teams can actually use. The SOP lays out exactly how to structure your co
 mpliance program\, benchmark wages\, integrate apprenticeship requirements
 \, collect and validate evidence\, and build an audit-ready file—without
  slowing down construction or overwhelming internal teams.\n In this webin
 ar we’ll go over pragmatic steps to think through as you consider ITCs f
 or your clients.
DTSTART:20260318T100000Z
DTEND:20260318T110000Z
LOCATION:Online
END:VEVENT
BEGIN:VTIMEZONE
TZID:UTC
END:VTIMEZONE
END:VCALENDAR
