BEGIN:VCALENDAR
PRODID:-//eluceo/ical//2.0/EN
VERSION:2.0
CALSCALE:GREGORIAN
BEGIN:VEVENT
UID:Baywa r.e.
DTSTAMP:20260418T004941Z
SUMMARY:Learn about Residential Solar Project Financing with BayWa r.e.
DESCRIPTION:Join us for an in‑depth seminar introducing new residential s
 olar project financing solutions coming soon through BayWa r.e. Their miss
 ion is to deliver competitive\, innovative\, and fair financing programs d
 esigned to support installers across Canada.\nValue Proposition\n Dedicate
 d Online Portal&nbsp\; Instant Credit Decisions&nbsp\; Fast Funding Turnar
 ound Simple\, Digital Application Process Direct Consultant Support with c
 ustomizable program options tailored to your solar business \nSign up for 
 our webinar to learn more about this upcoming financing program and how it
  can support your residential solar projects!
DTSTART:20260401T090000Z
DTEND:20260401T100000Z
LOCATION:Online
END:VEVENT
BEGIN:VTIMEZONE
TZID:UTC
END:VTIMEZONE
END:VCALENDAR
