BEGIN:VCALENDAR
PRODID:-//eluceo/ical//2.0/EN
VERSION:2.0
CALSCALE:GREGORIAN
BEGIN:VEVENT
UID:Baywa r.e.
DTSTAMP:20260420T032553Z
SUMMARY:Join BayWa r.e. and Roof Tech for an Inside Look at Advanced Mounti
 ng Systems & AlphaSeal
DESCRIPTION:Join our Roof Tech webinar to explore the latest innovations in
  PV mounting technology. This session will cover:\n  RT‑MINI II – Roof
  Tech’s self‑flashing PV mount featuring AlphaSeal®   RT APEX – The
  most advanced self‑flashing rail‑less PV mounting system\, powered by
  AlphaSeal®   AlphaSeal® Technology – A quantum leap forward in caulk
 ‑free PV mounting   Roof Tech’s History &amp\; Certifications – A lo
 ok at the company’s background\, expertise\, and industry credentials  \
 nPanelist: Guy Wellmann\, Midwest &amp\; Canada Sales Manager
DTSTART:20260501T090000Z
DTEND:20260501T100000Z
LOCATION:Online
END:VEVENT
BEGIN:VTIMEZONE
TZID:UTC
END:VTIMEZONE
END:VCALENDAR
