BEGIN:VCALENDAR
PRODID:-//eluceo/ical//2.0/EN
VERSION:2.0
CALSCALE:GREGORIAN
BEGIN:VEVENT
UID:Baywa r.e.
DTSTAMP:20260420T030203Z
SUMMARY:Deep Dive into QS2\, AC Combiner Solutions & ELS Technology with Ba
 yWa r.e. and APsystems
DESCRIPTION:Join BayWa r.e. and APS for a technical deep dive into the late
 st advancements shaping high‑performance solar installations. This webin
 ar covers key system components and provides expert insights to help insta
 llers\, engineers\, and project designers optimize their workflows.\nTopic
 s include:\nQS2 Details &amp\; Insight Look: Explore the capabilities\, de
 sign updates\, and performance advantages of the QS2 microinverter\, inclu
 ding installation considerations and real‑world application scenarios.\n
 AC Combiner Box Q&amp\;A: Get clarity on configuration\, safety\, and best
 ‑practice integration of AC combiner boxes through a dedicated question
 ‑and‑answer segment.\nELS Technical Dive: Understand the engineering b
 ehind APS’s ELS solutions\, how they enhance system performance\, and wh
 at to consider during deployment.
DTSTART:20260325T100000Z
DTEND:20260325T110000Z
LOCATION:Online
END:VEVENT
BEGIN:VTIMEZONE
TZID:UTC
END:VTIMEZONE
END:VCALENDAR
